BEGIN:VCALENDAR
VERSION:2.0
BEGIN:VEVENT
SUMMARY:INDIE🇮🇱PENDENCE PARTY! at The Naftaly’s
DESCRIPTION:Celebrating Israel's 78th birthday and our Indie🇮🇱Pendence!Live Dance Music with The Elevators ▲ Snacks'n'Drinks ▲ Make your own Magen David Bolo Tie / IndiePendant! ▲ Free Admission - Donations lovingly accepted - at the Naftaly residence\, 31 Rabbi Akiva St. Pardes Chanaחוגגים 78 לישראל באופן עצמאי! רוקדים למוסיקה חיה עם המעליות ▲ כיבוד קל עד בינוני ושתיה כיד המלכה ▲ עושים עניבת בולו עם מגן דוד! ▲ הכניסה חינם - נדבות מתקבלות באהבה - בבית מש' נפתלי\, רח' רבי עקיבא 31 פרדס חנה\n
DTSTART:20260421T163000Z
DTEND:20260421T183000Z
LOCATION:Rabbi Akiva St 31\, Pardes Hanna-Karkur\, Israel
END:VEVENT
END:VCALENDAR